BEGIN:VCALENDAR
VERSION:2.0
PRODID:-//ChamberMaster//Event Calendar 2.0//EN
METHOD:PUBLISH
X-PUBLISHED-TTL:P1H
REFRESH-INTERVAL:P1H
CALSCALE:GREGORIAN
BEGIN:VTIMEZONE
TZID:America/Chicago
BEGIN:DAYLIGHT
RRULE:FREQ=YEARLY;BYMONTH=3;BYDAY=2SU
DTSTART:20070101T000000
TZOFFSETFROM:-0600
TZOFFSETTO:-0500
TZNAME:Central Daylight Time
END:DAYLIGHT
BEGIN:STANDARD
RRULE:FREQ=YEARLY;BYMONTH=11;BYDAY=1SU
DTSTART:20070101T000000
TZOFFSETFROM:-0500
TZOFFSETTO:-0600
TZNAME:Central Standard Time
END:STANDARD
END:VTIMEZONE
BEGIN:VEVENT
DTSTART;TZID=America/Chicago:20260825T160000
DTEND;TZID=America/Chicago:20260825T190000
X-MICROSOFT-CDO-ALLDAYEVENT:FALSE
SUMMARY:Building Taylor: Materials\, Markets & Margins
DESCRIPTION:Join us for a dynamic\, summit-style conversation bringing together leaders from construction\, manufacturing\, and the legislative arena to unpack one of today’s most pressing economic challenges...tariffs. This engaging panel will feature experts at the top of their fields\, sharing real-world insight into how shifting trade policies are impacting material costs\, supply chains\, project timelines\, and overall business margins.\n\nFrom the job site to the production floor to policy-making\, this event will connect the dots between markets and decision-making—equipping attendees with a clearer understanding of today’s landscape and what it means for the future of building and manufacturing in our region.
X-ALT-DESC;FMTTYPE=text/html:Join us for a dynamic\, summit-style conversation bringing together leaders from construction\, manufacturing\, and the legislative arena to unpack one of today’s most pressing economic challenges...tariffs. This engaging panel will feature experts at the top of their fields\, sharing real-world insight into how shifting trade policies are impacting material costs\, supply chains\, project timelines\, and overall business margins.\n\nFrom the job site to the production floor to policy-making\, this event will connect the dots between markets and decision-making—equipping attendees with a clearer understanding of today’s landscape and what it means for the future of building and manufacturing in our region.
LOCATION:5350 Bill Pickett Trail Taylor TX 76574
UID:e.4337.1450121
SEQUENCE:3
DTSTAMP:20260424T075733Z
URL:https://business.taylorchamber.org/events/Details/building-taylor-materials-markets-margins-1717701?sourceTypeId=Hub
END:VEVENT
END:VCALENDAR
